BEGIN:VCALENDAR
VERSION:2.0
PRODID:-//DMV Queens Ministry - ECPv6.15.20//NONSGML v1.0//EN
CALSCALE:GREGORIAN
METHOD:PUBLISH
X-ORIGINAL-URL:https://dmvqueensministry.com
X-WR-CALDESC:Events for DMV Queens Ministry
REFRESH-INTERVAL;VALUE=DURATION:PT1H
X-Robots-Tag:noindex
X-PUBLISHED-TTL:PT1H
BEGIN:VTIMEZONE
TZID:America/New_York
BEGIN:DAYLIGHT
TZOFFSETFROM:-0500
TZOFFSETTO:-0400
TZNAME:EDT
DTSTART:20240310T070000
END:DAYLIGHT
BEGIN:STANDARD
TZOFFSETFROM:-0400
TZOFFSETTO:-0500
TZNAME:EST
DTSTART:20241103T060000
END:STANDARD
BEGIN:DAYLIGHT
TZOFFSETFROM:-0500
TZOFFSETTO:-0400
TZNAME:EDT
DTSTART:20250309T070000
END:DAYLIGHT
BEGIN:STANDARD
TZOFFSETFROM:-0400
TZOFFSETTO:-0500
TZNAME:EST
DTSTART:20251102T060000
END:STANDARD
BEGIN:DAYLIGHT
TZOFFSETFROM:-0500
TZOFFSETTO:-0400
TZNAME:EDT
DTSTART:20260308T070000
END:DAYLIGHT
BEGIN:STANDARD
TZOFFSETFROM:-0400
TZOFFSETTO:-0500
TZNAME:EST
DTSTART:20261101T060000
END:STANDARD
BEGIN:DAYLIGHT
TZOFFSETFROM:-0500
TZOFFSETTO:-0400
TZNAME:EDT
DTSTART:20270314T070000
END:DAYLIGHT
BEGIN:STANDARD
TZOFFSETFROM:-0400
TZOFFSETTO:-0500
TZNAME:EST
DTSTART:20271107T060000
END:STANDARD
END:VTIMEZONE
BEGIN:VEVENT
DTSTART;TZID=America/New_York:20250614T170000
DTEND;TZID=America/New_York:20250614T235900
DTSTAMP:20260425T063740
CREATED:20240607T032811Z
LAST-MODIFIED:20250808T135643Z
UID:750-1749920400-1749945540@dmvqueensministry.com
SUMMARY:DMV Queens Empowement Dinner 2025- June 14 2025
DESCRIPTION:
URL:https://dmvqueensministry.com/event/dmv-queens-night-upcoming-june-7-2025/
LOCATION:Hilton BWI Airport 1739 W Nursery Rd\, Linthicum Heights\, MD 21090
CATEGORIES:DMV Queens Empowerment
ORGANIZER;CN="DMV Queens Ministry":MAILTO:dmvqueensnight2024@gmail.com
END:VEVENT
BEGIN:VEVENT
DTSTART;TZID=America/New_York:20250615T140000
DTEND;TZID=America/New_York:20250615T180000
DTSTAMP:20260425T063740
CREATED:20240607T033354Z
LAST-MODIFIED:20250808T211211Z
UID:676-1749996000-1750010400@dmvqueensministry.com
SUMMARY:Worship Aflame Encounter with GOD -June 15\, 2026
DESCRIPTION:June 14\, 2026  11:00AM – 3:00PM \nHilton Baltimore BWI Airport\nAddress- 1739 West Nursery Road\,\nLinthicum Heights\, MD 21090 USA \n  \n 
URL:https://dmvqueensministry.com/event/music-extravaganza-kigoco-june-8-2025/
LOCATION:Hilton BWI Airport 1739 W Nursery Rd\, Linthicum Heights\, MD 21090
CATEGORIES:DMV Queens Empowerment
ORGANIZER;CN="DMV Queens Ministry":MAILTO:dmvqueensnight2024@gmail.com
END:VEVENT
BEGIN:VEVENT
DTSTART;TZID=America/New_York:20260612T180000
DTEND;TZID=America/New_York:20260612T210000
DTSTAMP:20260425T063740
CREATED:20250901T180656Z
LAST-MODIFIED:20250901T185836Z
UID:1985-1781287200-1781298000@dmvqueensministry.com
SUMMARY:DMV Queens Arrivals Ceremony - Friday\, June 12\, 2026
DESCRIPTION:Location Address:  Hilton BWI Airport 1739 West Nursery Road\, Linthicum Heights\, Maryland \n\n\n2026DMVQueensWeekendAgenda \n\n\nQueens Arrivals & Meet/Greet\nThe Making of A Queen Book Launch\nQueens Heart-to-Heart Talks\n\nEmpower Princess Queeen Junior\nGoal Settings – Shooting Star\nHealth & Wellness\nFiancial Freedom
URL:https://dmvqueensministry.com/event/queens-arrivals-ceremony-friday-june-12-2026/
CATEGORIES:DMV Queens Empowerment
END:VEVENT
BEGIN:VEVENT
DTSTART;TZID=America/New_York:20260613T100000
DTEND;TZID=America/New_York:20260613T230000
DTSTAMP:20260425T063740
CREATED:20250808T140331Z
LAST-MODIFIED:20250901T182501Z
UID:1860-1781344800-1781391600@dmvqueensministry.com
SUMMARY:DMV Queens Empowement Dinner 2026- Saturday\, June 13 2026
DESCRIPTION:Location Address:  Hilton BWI Airport 1739 West Nursery Road\, Linthicum Heights\, Maryland \n\n\n2026DMVQueensWeekendAgenda
URL:https://dmvqueensministry.com/event/dmv-queens-empowement-dinner-2025-june-13-2026/
LOCATION:Hilton BWI Airport 1739 W Nursery Rd\, Linthicum Heights\, MD 21090
CATEGORIES:DMV Queens Empowerment
END:VEVENT
BEGIN:VEVENT
DTSTART;TZID=America/New_York:20260614T110000
DTEND;TZID=America/New_York:20260614T150000
DTSTAMP:20260425T063740
CREATED:20250808T140517Z
LAST-MODIFIED:20250901T182342Z
UID:1862-1781434800-1781449200@dmvqueensministry.com
SUMMARY:Worship Aflame Encounter with GOD - Sunday\, June 14\, 2026
DESCRIPTION:Location Address: : Hilton BWI Airport 1739 West Nursery Road\, Linthicum Heights\, Maryland \n\n\n2026DMVQueensWeekendAgenda
URL:https://dmvqueensministry.com/event/select-worship-aflame-encounter-with-god-june-14-2026/
LOCATION:Hilton BWI Airport 1739 W Nursery Rd\, Linthicum Heights\, MD 21090
CATEGORIES:DMV Queens Empowerment,Worship Aflame Conference
END:VEVENT
END:VCALENDAR