BEGIN:VCALENDAR
VERSION:2.0
PRODID:-//DMV Queens Ministry - ECPv6.15.20//NONSGML v1.0//EN
CALSCALE:GREGORIAN
METHOD:PUBLISH
X-WR-CALNAME:DMV Queens Ministry
X-ORIGINAL-URL:https://dmvqueensministry.com
X-WR-CALDESC:Events for DMV Queens Ministry
REFRESH-INTERVAL;VALUE=DURATION:PT1H
X-Robots-Tag:noindex
X-PUBLISHED-TTL:PT1H
BEGIN:VTIMEZONE
TZID:America/New_York
BEGIN:DAYLIGHT
TZOFFSETFROM:-0500
TZOFFSETTO:-0400
TZNAME:EDT
DTSTART:20230312T070000
END:DAYLIGHT
BEGIN:STANDARD
TZOFFSETFROM:-0400
TZOFFSETTO:-0500
TZNAME:EST
DTSTART:20231105T060000
END:STANDARD
BEGIN:DAYLIGHT
TZOFFSETFROM:-0500
TZOFFSETTO:-0400
TZNAME:EDT
DTSTART:20240310T070000
END:DAYLIGHT
BEGIN:STANDARD
TZOFFSETFROM:-0400
TZOFFSETTO:-0500
TZNAME:EST
DTSTART:20241103T060000
END:STANDARD
BEGIN:DAYLIGHT
TZOFFSETFROM:-0500
TZOFFSETTO:-0400
TZNAME:EDT
DTSTART:20250309T070000
END:DAYLIGHT
BEGIN:STANDARD
TZOFFSETFROM:-0400
TZOFFSETTO:-0500
TZNAME:EST
DTSTART:20251102T060000
END:STANDARD
BEGIN:DAYLIGHT
TZOFFSETFROM:-0500
TZOFFSETTO:-0400
TZNAME:EDT
DTSTART:20260308T070000
END:DAYLIGHT
BEGIN:STANDARD
TZOFFSETFROM:-0400
TZOFFSETTO:-0500
TZNAME:EST
DTSTART:20261101T060000
END:STANDARD
END:VTIMEZONE
BEGIN:VTIMEZONE
TZID:UTC
BEGIN:STANDARD
TZOFFSETFROM:+0000
TZOFFSETTO:+0000
TZNAME:UTC
DTSTART:20230101T000000
END:STANDARD
END:VTIMEZONE
BEGIN:VEVENT
DTSTART;TZID=America/New_York:20250615T140000
DTEND;TZID=America/New_York:20250615T180000
DTSTAMP:20260423T185547
CREATED:20240607T033354Z
LAST-MODIFIED:20250808T211211Z
UID:676-1749996000-1750010400@dmvqueensministry.com
SUMMARY:Worship Aflame Encounter with GOD -June 15\, 2026
DESCRIPTION:June 14\, 2026  11:00AM – 3:00PM \nHilton Baltimore BWI Airport\nAddress- 1739 West Nursery Road\,\nLinthicum Heights\, MD 21090 USA \n  \n 
URL:https://dmvqueensministry.com/event/music-extravaganza-kigoco-june-8-2025/
LOCATION:Hilton BWI Airport 1739 W Nursery Rd\, Linthicum Heights\, MD 21090
CATEGORIES:DMV Queens Empowerment
ORGANIZER;CN="DMV Queens Ministry":MAILTO:dmvqueensnight2024@gmail.com
END:VEVENT
BEGIN:VEVENT
DTSTART;TZID=America/New_York:20250614T170000
DTEND;TZID=America/New_York:20250614T235900
DTSTAMP:20260423T185547
CREATED:20240607T032811Z
LAST-MODIFIED:20250808T135643Z
UID:750-1749920400-1749945540@dmvqueensministry.com
SUMMARY:DMV Queens Empowement Dinner 2025- June 14 2025
DESCRIPTION:
URL:https://dmvqueensministry.com/event/dmv-queens-night-upcoming-june-7-2025/
LOCATION:Hilton BWI Airport 1739 W Nursery Rd\, Linthicum Heights\, MD 21090
CATEGORIES:DMV Queens Empowerment
ORGANIZER;CN="DMV Queens Ministry":MAILTO:dmvqueensnight2024@gmail.com
END:VEVENT
BEGIN:VEVENT
DTSTART;TZID=America/New_York:20240616T113000
DTEND;TZID=America/New_York:20240616T170000
DTSTAMP:20260423T185547
CREATED:20240607T033739Z
LAST-MODIFIED:20240607T040815Z
UID:880-1718537400-1718557200@dmvqueensministry.com
SUMMARY:WellSpring of Joy 4th Anniversary
DESCRIPTION:
URL:https://dmvqueensministry.com/event/wellspring-of-joy-4th-anniversary/
LOCATION:Denver\, Colorado\, 5538 Hannibal Street\,\, Denver\, 80239
CATEGORIES:Speaking Engagements
END:VEVENT
BEGIN:VEVENT
DTSTART;TZID=America/New_York:20240608T090000
DTEND;TZID=America/New_York:20240608T130000
DTSTAMP:20260423T185547
CREATED:20240607T031755Z
LAST-MODIFIED:20240607T032623Z
UID:863-1717837200-1717851600@dmvqueensministry.com
SUMMARY:Ladies & Girls Breakfast
DESCRIPTION:
URL:https://dmvqueensministry.com/event/ladies-girls-breakfast/
LOCATION:Kulpsville\, PA\, 1750 Sumneytown Pike\, Kulpsville\, PA\, 19443\, United States
CATEGORIES:Speaking Engagements
END:VEVENT
BEGIN:VEVENT
DTSTART;TZID=UTC:20240602T140000
DTEND;TZID=UTC:20240602T190000
DTSTAMP:20260423T185547
CREATED:20240225T194627Z
LAST-MODIFIED:20240601T031222Z
UID:148-1717336800-1717354800@dmvqueensministry.com
SUMMARY:Music Extravaganza Kigoco CD Launch 2024
DESCRIPTION:
URL:https://dmvqueensministry.com/event/power-house-april-church-conference/
LOCATION:Power House Baptist Church\, 10778 Rhode Island Ave\, Beltsville\, MD 20705\, MD\, United States
CATEGORIES:Worship Aflame Conference
END:VEVENT
BEGIN:VEVENT
DTSTART;TZID=UTC:20240601T170000
DTEND;TZID=UTC:20240601T235900
DTSTAMP:20260423T185547
CREATED:20240225T193426Z
LAST-MODIFIED:20250607T153357Z
UID:139-1717261200-1717286340@dmvqueensministry.com
SUMMARY:DMV Queens Ministry Dinner 2024 - June 1 @5pm - Ticket REQUIRED
DESCRIPTION:https://dmvqueensministry.com/ \n \n 
URL:https://dmvqueensministry.com/event/dmv-queens-night-2024-buy-ticket/
LOCATION:DMV Queens Night 2024\, West Bowie Village Hall\, 13711 Old Annapolis RD\, Bowie\, MD 20720\, MD\, United States
CATEGORIES:DMV Queens Empowerment
END:VEVENT
END:VCALENDAR