BEGIN:VCALENDAR
VERSION:2.0
PRODID:-//DMV Queens Ministry - ECPv6.15.20//NONSGML v1.0//EN
CALSCALE:GREGORIAN
METHOD:PUBLISH
X-ORIGINAL-URL:https://dmvqueensministry.com
X-WR-CALDESC:Events for DMV Queens Ministry
REFRESH-INTERVAL;VALUE=DURATION:PT1H
X-Robots-Tag:noindex
X-PUBLISHED-TTL:PT1H
BEGIN:VTIMEZONE
TZID:UTC
BEGIN:STANDARD
TZOFFSETFROM:+0000
TZOFFSETTO:+0000
TZNAME:UTC
DTSTART:20230101T000000
END:STANDARD
END:VTIMEZONE
BEGIN:VEVENT
DTSTART;TZID=UTC:20240601T170000
DTEND;TZID=UTC:20240601T235900
DTSTAMP:20260424T212744
CREATED:20240225T193426Z
LAST-MODIFIED:20250607T153357Z
UID:139-1717261200-1717286340@dmvqueensministry.com
SUMMARY:DMV Queens Ministry Dinner 2024 - June 1 @5pm - Ticket REQUIRED
DESCRIPTION:https://dmvqueensministry.com/ \n \n 
URL:https://dmvqueensministry.com/event/dmv-queens-night-2024-buy-ticket/
LOCATION:DMV Queens Night 2024\, West Bowie Village Hall\, 13711 Old Annapolis RD\, Bowie\, MD 20720\, MD\, United States
CATEGORIES:DMV Queens Empowerment
END:VEVENT
END:VCALENDAR